BEGIN:VCALENDAR
VERSION:2.0
PRODID:-//Talks.cam//talks.cam.ac.uk//
X-WR-CALNAME:Talks.cam
BEGIN:VEVENT
SUMMARY:Polymers with sticky feet - Simon Titmuss (University of Oxford)
DTSTART:20070316T091500Z
DTEND:20070316T101500Z
UID:TALK6755@talks.cam.ac.uk
CONTACT:Dr. Oliver Inderwildi
DESCRIPTION:Abstract not available
LOCATION:Dept. of Chemistry\, U203
END:VEVENT
END:VCALENDAR
