BEGIN:VCALENDAR
VERSION:2.0
PRODID:-//Talks.cam//talks.cam.ac.uk//
X-WR-CALNAME:Talks.cam
BEGIN:VEVENT
SUMMARY:Proving program termination - Byron Cook\, Microsoft Research\, Ca
 mbridge
DTSTART:20071004T090000Z
DTEND:20071004T110000Z
UID:TALK6758@talks.cam.ac.uk
CONTACT:Sam Staton
DESCRIPTION:This course will survey both old and recently discovered techn
 iques for proving that programs terminate.\n
LOCATION:Computer Laboratory\, Room FW11
END:VEVENT
END:VCALENDAR
