BEGIN:VCALENDAR
VERSION:2.0
PRODID:-//Talks.cam//talks.cam.ac.uk//
X-WR-CALNAME:Talks.cam
BEGIN:VEVENT
SUMMARY:Atmos-Ocean Dynamics group meeting - Alison Ming
DTSTART:20170201T110000Z
DTEND:20170201T120000Z
UID:TALK67627@talks.cam.ac.uk
CONTACT:Jake Smith
DESCRIPTION:Abstract not available
LOCATION:CMS\, MR6
END:VEVENT
END:VCALENDAR
