BEGIN:VCALENDAR
VERSION:2.0
PRODID:-//Talks.cam//talks.cam.ac.uk//
X-WR-CALNAME:Talks.cam
BEGIN:VEVENT
SUMMARY:Evolutionary ecology and conservation of freshwater fishes - Steph
 anie Carlson (Berkeley)
DTSTART:20161115T160000Z
DTEND:20161115T170000Z
UID:TALK67795@talks.cam.ac.uk
CONTACT:47505
DESCRIPTION:For more information about Stephanie Carlson's research on fre
 shwater fish community ecology\, please check her website: https://nature.
 berkeley.edu/carlsonlab/
LOCATION:Part II Lecture Theatre\, Department of Zoology
END:VEVENT
END:VCALENDAR
