BEGIN:VCALENDAR
VERSION:2.0
PRODID:-//Talks.cam//talks.cam.ac.uk//
X-WR-CALNAME:Talks.cam
BEGIN:VEVENT
SUMMARY:Origin of the Hawaiian-Emperor Bend: New Evidence - Richard G. Gor
 don  - Rice University 
DTSTART:20161018T150000Z
DTEND:20161018T160000Z
UID:TALK67799@talks.cam.ac.uk
CONTACT:Andy Buckley
DESCRIPTION:Abstract not available
LOCATION:Marine/Wolfson Building lecture hall.
END:VEVENT
END:VCALENDAR
