BEGIN:VCALENDAR
VERSION:2.0
PRODID:-//Talks.cam//talks.cam.ac.uk//
X-WR-CALNAME:Talks.cam
BEGIN:VEVENT
SUMMARY:Do we actually know what a computer can do? - On the foundations o
 f computational mathematics - Dr A Hansen
DTSTART:20161108T201500Z
DTEND:20161108T213000Z
UID:TALK67803@talks.cam.ac.uk
CONTACT:Jack Atkinson
DESCRIPTION:Abstract not available
LOCATION:The Lubbock Room\, Peterhouse
END:VEVENT
END:VCALENDAR
