BEGIN:VCALENDAR
VERSION:2.0
PRODID:-//Talks.cam//talks.cam.ac.uk//
X-WR-CALNAME:Talks.cam
BEGIN:VEVENT
SUMMARY:ATP-sensitive K channels and Neonatal Diabetes - from Molecule to 
 New Therapy and Beyond - Prof Dame Frances Ashcroft\, University of Oxford
DTSTART:20161104T200000Z
DTEND:20161104T210000Z
UID:TALK67890@talks.cam.ac.uk
CONTACT:Bethan Clark
DESCRIPTION:Abstract not available
LOCATION:Pharmacology Lecture Theatre on Tennis Court Road
END:VEVENT
END:VCALENDAR
