BEGIN:VCALENDAR
VERSION:2.0
PRODID:-//Talks.cam//talks.cam.ac.uk//
X-WR-CALNAME:Talks.cam
BEGIN:VEVENT
SUMMARY:Summer Internships Event - Speaker to be confirmed
DTSTART:20161028T180000Z
DTEND:20161028T193000Z
UID:TALK67902@talks.cam.ac.uk
CONTACT:Bethan Clark
DESCRIPTION:Find out about the variety and benefits of internships\, and p
 ick up some tips for applying.
LOCATION:St John's College
END:VEVENT
END:VCALENDAR
