BEGIN:VCALENDAR
VERSION:2.0
PRODID:-//Talks.cam//talks.cam.ac.uk//
X-WR-CALNAME:Talks.cam
BEGIN:VEVENT
SUMMARY:Non-Covalent Chemistry - Dr Chris Hunter\, Dept of Chemistry
DTSTART:20161013T103000Z
DTEND:20161013T113000Z
UID:TALK67938@talks.cam.ac.uk
CONTACT:Catherine Pearson
DESCRIPTION:Non-covalent interactions are sensitive to solvent\, orientati
 on and substituents\, so to experimentally probe the basic chemistry that 
 governs weak intermolecular interactions\, we require systems where these 
 parameters can be independently varied. This presentation will describe a
 pproaches to quantifying non-covalent interactions\, and the development a
  model for estimating the thermodynamic properties of intermolecular inter
 actions in solids\, organic and aqueous solutions.
LOCATION:Open Plan Area\, BP Institute\, Madingley Rise CB3 0EZ
END:VEVENT
END:VCALENDAR
