BEGIN:VCALENDAR
VERSION:2.0
PRODID:-//Talks.cam//talks.cam.ac.uk//
X-WR-CALNAME:Talks.cam
BEGIN:VEVENT
SUMMARY:2016 Annual Public Health Conference &amp\; Lecture - Professor Da
 me Sally Davies\, Chief Medical Officer for England 
DTSTART:20161123T103000Z
DTEND:20161123T190000Z
UID:TALK68005@talks.cam.ac.uk
CONTACT:Rosa Attwood
DESCRIPTION:Professor Dame Sally Davies\, Chief Medical Officer for Englan
 d\, will deliver this year’s prestigious Annual Public Health lecture\, 
 entitled: The (In)Discipline of Public Health.\n\nThe lecture will follow 
 the 2016 CIPH and Network annual public health conference\, which will exa
 mine the interface between infectious diseases and non-communicable diseas
 es.\n\nHighlights include:\n\n10.30     Opening Speech with Professor Caro
 l Brayne\, Director\, Cambridge Institute of Public Health\n\n10.50     Ta
 lks – Bridging the gap: public health and the interface with infectious 
 diseases – with Gordon Dougan\, Ann Prentice and Margaret Stanley. Intro
 duced/chaired by Aliko Ahmed\n\n13.30     Talks – Risk and Susceptibilit
 ies across transmissible and non-transmissible diseases – with Lydia Dru
 mright\, Ros Parkes-Ratanshi\, Angelique Mavrodaris and Farida Mayanja. Ch
 aired by Sheila Bird\n\n16.10     Short talks – Translating knowledge ac
 ross transmissible and non-transmissible diseases – with James Wood\, As
 hley Moffett\, Nick Brown and Dani De Angelis. Chaired by Peter Bradley\n\
 n17.20     Closing speech: Professor Carol Brayne\n\n18.00     Annual Lect
 ure: “The (In)Discipline of Public Health” with Professor Dame Sally D
 avies. Introduced by the Vice Chancellor of The University of Cambridge\n\
 nNow in its third year\, the Cambridge annual public health conference & l
 ecture series presents an opportunity for researchers\, policy makers\, an
 d other professionals working in the field of public health\, to come toge
 ther\, discover and discuss the latest Cambridge University research break
 throughs in this area.\n\nSee speaker abstracts and further details here: 
 http://www.iph.cam.ac.uk/blog/2016-annual-public-health-conference-lecture
 -speaker-abstracts-biographies/ \n\nPosters\n\nCambridge researchers will 
 showcase and engage new people with their research by presenting their pos
 ters during the lunchtime session of the conference. Posters cover a wide 
 range of topics relating to public and population health.\n\nSee poster ab
 stracts here:http://www.iph.cam.ac.uk/blog/poster-presentations/ \n\nWedne
 sday 23 November 2016\, 10:30-19:00 at the Cancer Research UK Cambridge In
 stitute. Entry FREE.\n\nAdvance booking recommended. Register here.\n\nFol
 low this event on Twitter at:\n\n@InstPubHealth  #CIPHconference2016
LOCATION:Cancer Research UK Cambridge Institute Li Ka Shing Centre\, Robin
 son Way\, Cambridge\, CB2 0RE 
END:VEVENT
END:VCALENDAR
