BEGIN:VCALENDAR
VERSION:2.0
PRODID:-//Talks.cam//talks.cam.ac.uk//
X-WR-CALNAME:Talks.cam
BEGIN:VEVENT
SUMMARY:Probing the astrophysics and particle physics of WIMPs with direct
  detection experiments  - Anne Green (University of Nottingham)
DTSTART:20161019T131500Z
DTEND:20161019T141500Z
UID:TALK68137@talks.cam.ac.uk
CONTACT:Shahar Hadar
DESCRIPTION:Diverse astrophysical and cosmological observations indicate t
 hat most of the matter in the Universe is cold\, dark and non-baryonic.  W
 eakly Interactive Massive Particles (WIMPs) are generically a good dark ma
 tter candidate and particle physics provides us with a well-motivated WIMP
  candidate in the form of the lightest neutralino. WIMPs can be detected i
 ndirectly (via the products of their annihilation) or directly (via elasti
 c scattering in underground detectors). After an overview of WIMPs and the
  status of attempts to detect them\, I will focus on what we could learn f
 rom direct detection experiments about the astrophysics and particle physi
 cs of WIMPs.
LOCATION:MR2\, Centre for Mathematical Sciences
END:VEVENT
END:VCALENDAR
