BEGIN:VCALENDAR
VERSION:2.0
PRODID:-//Talks.cam//talks.cam.ac.uk//
X-WR-CALNAME:Talks.cam
BEGIN:VEVENT
SUMMARY:Discussion of Bruce Braun chapter &quot\;From critique to experime
 nt: rethinking political ecology for the anthropocene&quot\; - Chris Sandb
 rook
DTSTART:20161101T130000Z
DTEND:20161101T140000Z
UID:TALK68158@talks.cam.ac.uk
CONTACT:Dr. Chris Sandbrook
DESCRIPTION:Abstract not available
LOCATION:Seminar Room
END:VEVENT
END:VCALENDAR
