BEGIN:VCALENDAR
VERSION:2.0
PRODID:-//Talks.cam//talks.cam.ac.uk//
X-WR-CALNAME:Talks.cam
BEGIN:VEVENT
SUMMARY:TBC - TBC
DTSTART:20161027T150000Z
DTEND:20161027T160000Z
UID:TALK68166@talks.cam.ac.uk
CONTACT:Prof. Julia Gog
DESCRIPTION:Abstract not available
LOCATION:Meeting room 15\, Centre for Mathematical Sciences
END:VEVENT
END:VCALENDAR
