BEGIN:VCALENDAR
VERSION:2.0
PRODID:-//Talks.cam//talks.cam.ac.uk//
X-WR-CALNAME:Talks.cam
BEGIN:VEVENT
SUMMARY:Real World Research - Colin Robson - Professor Colin Robson
DTSTART:20070425T110000Z
DTEND:20070425T123000Z
UID:TALK6832@talks.cam.ac.uk
CONTACT:Nathan Crilly
DESCRIPTION:The Cambridge Engineering Design Centre is pleased to host Pro
 fessor Colin Robson for a short informal discussion. Topics of interest ar
 e likely to include methodological issues in design research and the possi
 ble revision of his book\, _Real World Research_.
LOCATION:EDC Loft meeting room (Inglis Building\, CUED)
END:VEVENT
END:VCALENDAR
