BEGIN:VCALENDAR
VERSION:2.0
PRODID:-//Talks.cam//talks.cam.ac.uk//
X-WR-CALNAME:Talks.cam
BEGIN:VEVENT
SUMMARY:Can black holes help reducing your commuting time? - Bruno Loureir
 o Vermandel
DTSTART:20161025T193000Z
DTEND:20161025T200000Z
UID:TALK68452@talks.cam.ac.uk
CONTACT:Michael Kosicki
DESCRIPTION:Probably not. However\, in this talk\, I would venture to conv
 ince you that these two concepts have more in common that you might expect
 . I will introduce the concept of quasi-particles and explain how it provi
 des a framework for understanding many interesting phenomena in physics\, 
 but fails to describe others. Next\, I will introduce a “recent” devel
 opment called AdS/CFT or Holographic duality\, and dare to claim this migh
 t be exactly the right tool to understand systems for which a quasi-partic
 le picture breakdown. The aim will be to introduce the concept and explain
 \, without fancy maths\, what black holes might have to do with electrons.
LOCATION:Senior Parlour\, Gonville and Caius College
END:VEVENT
END:VCALENDAR
