BEGIN:VCALENDAR
VERSION:2.0
PRODID:-//Talks.cam//talks.cam.ac.uk//
X-WR-CALNAME:Talks.cam
BEGIN:VEVENT
SUMMARY:Graduating from Social Protection: the role of cash and conditions
  in protecting and strengthening the livelihoods of the most poor - REAL C
 entre Seminar Series: Professor Rachel Sabates-Wheeler\, Institute of Deve
 lopment Studies\, University of Sussex
DTSTART:20161018T110000Z
DTEND:20161018T130000Z
UID:TALK68537@talks.cam.ac.uk
CONTACT:Diane Caldwell-Hird
DESCRIPTION:The REAL Centre Michaelmas Term Seminar Series will launch on 
 Tuesday 18 October at 12:00 at the Faculty of Education\, DMB 2S3\nSpeaker
 : Professor Rachel Sabates-Wheeler from the Institute of Development Studi
 es\nTitle: Graduating from Social Protection: the role of cash and conditi
 ons in protecting and strengthening the livelihoods of the most poor\n\nAl
 l welcome - please join us for the presentation and Q&A from 12:00 to 13:0
 0 followed by an informal discussion from 13:00 to 14:00 (bring your lunch
 )
LOCATION: Donald McIntyre Building\, Faculty of Education\, 184 Hills Road
 \, Cambridge\, CB2 8PQ\, room 2S3
END:VEVENT
END:VCALENDAR
