BEGIN:VCALENDAR
VERSION:2.0
PRODID:-//Talks.cam//talks.cam.ac.uk//
X-WR-CALNAME:Talks.cam
BEGIN:VEVENT
SUMMARY:REAL Centre Roundtable: Opportunities for Research and Research Su
 pport Services in Africa - Mr Sachin Gathani\, Laterite-Africa
DTSTART:20161019T120000Z
DTEND:20161019T130000Z
UID:TALK68689@talks.cam.ac.uk
CONTACT:Diane Caldwell-Hird
DESCRIPTION:Mr Sachin Gathani\, Managing Partner of Laterite-Africa\, will
  provide an overview of their work in Rwanda\, focusing on dropout and rep
 etition\, learning assessment\, and insights from agronomy training across
  East Africa.  Laterite actively recruits candidates from Masters programs
  in development studies\, education and economics to join their research t
 eam.\n\nLaterite-Africa is a data research and technical advisory firm ded
 icated to social and economic development.  It specialises in innovative d
 ata collection and analysis techniques that help answer critical developme
 nt questions.
LOCATION:Mary Allen Building\, Faculty of Education\, room 119.
END:VEVENT
END:VCALENDAR
