BEGIN:VCALENDAR
VERSION:2.0
PRODID:-//Talks.cam//talks.cam.ac.uk//
X-WR-CALNAME:Talks.cam
BEGIN:VEVENT
SUMMARY:Enterprise Tuesday 2016-2017: Beating the odds\, flexibility and p
 ivoting - Monica Grady CBE\, Professor of Planetary and Space Sciences at 
 the Open University\; and Tim Jones\, CEO of the Allia Group
DTSTART:20161108T180000Z
DTEND:20161108T210000Z
UID:TALK69015@talks.cam.ac.uk
CONTACT:Enterprise Tuesday
DESCRIPTION:What does it take to overcome probability and gain competitive
  advantage? How do you identify the pivot points and how necessary is it t
 o be flexible? Where should the balance be between correcting the course a
 nd sticking to the plan and how does this help you to beat the odds? These
  are questions that many entrepreneurs and innovators have to answer as th
 ey develop their businesses. Certainly they are familiar issues for the gu
 est speakers at our first Enterprise Tuesday session of the 2016/17 series
  on *8 November*. \n\n*Monica Grady CBE*\, Professor of Planetary and Spac
 e Sciences at the Open University\, was involved in the European Space Age
 ncy's Rosetta space probe project. She'll be talking about how the team ov
 ercame the odds to successfully land Philae (Rosetta's lander module) on a
  comet in 2014. Monica will be joined by *Tim Jones*\, CEO of the Allia Gr
 oup and Chariman of the quoted flavour and fragrance supplier Treatt Plc.\
 n\nThe complete line-up of inspiring speakers for the Enterprise Tuesday s
 eries running in November 2016 and February 2017 is on the Cambridge Judge
  Business School website. It includes notable entrepreneurs such as Lloyd 
 Dorfman\, founder of Travelex\; John Williams\, founder of The Ideas Lab\;
  and Sir Tim Smit KBE\, co-founder of the Eden Project. Enterprise Tuesday
  is a great opportunity for those looking to explore entrepreneurial oppor
 tunities\, to get informed on the 'how to' of being an entrepreneur\; and 
 to build quality networks with peers\, practitioners and experts. \n\n*Fin
 d out more and register for Enterprise Tuesday www.jbs.cam.ac.uk/enterpris
 etuesday \n\n*Find out more about the CJBS Entrepreneurship Centre https:/
 /www.jbs.cam.ac.uk/entrepreneurship/* \n\nGot a question about Enterprise 
 Tuesday? Please email Frances Bycroft at enterprisetuesday@jbs.cam.ac.uk \
 n
LOCATION:Lecture Theatre 0\, University of Cambridge Department of Enginee
 ring\, Trumpington Street\, Cambridge CB2 1PZ 
END:VEVENT
END:VCALENDAR
