BEGIN:VCALENDAR
VERSION:2.0
PRODID:-//Talks.cam//talks.cam.ac.uk//
X-WR-CALNAME:Talks.cam
BEGIN:VEVENT
SUMMARY:Pembroke College - BT Lecture:  What is Data Science\, what do Dat
 a Scientists do\, and how can we have a Science of Data? - Dr Simon Thomps
 on\, Head of Practice\, Big Data and Customer Experience\, BT Research
DTSTART:20161124T173000Z
DTEND:20161124T184500Z
UID:TALK69038@talks.cam.ac.uk
CONTACT:Jane Moorman
DESCRIPTION:The definition of data science and the work of data scientists
  are fodder for bloggers the world over\,  lost in the puff and chatter ar
 e serious questions as to why this category of work has suddenly become di
 fferentiated and so significant. Dr Thompson will show some of the drivers
  are that have precipitated the invention of the idea of data science and 
 data scientists\, and some projects undertaken at BT in recent years that 
 help highlight these drivers. He will then describe what he thinks is a be
 tter and more useful response to the situation that we find ourselves in w
 hich is the development of a science of data\, and describe some tools dev
 eloped at BT around this idea.  
LOCATION:Nihon Room\, Pembroke College
END:VEVENT
END:VCALENDAR
