BEGIN:VCALENDAR
VERSION:2.0
PRODID:-//Talks.cam//talks.cam.ac.uk//
X-WR-CALNAME:Talks.cam
BEGIN:VEVENT
SUMMARY:TBA - Freysteinn Sigmundsson (Nordic Volcanological Centre\, Insti
 tute of Earth Sciences\, University of Iceland)
DTSTART:20170117T120000Z
DTEND:20170117T130000Z
UID:TALK69127@talks.cam.ac.uk
CONTACT:Yves Moussallam
DESCRIPTION:Abstract not available
LOCATION:Tilley Lecture Theatre\, Earth Sciences Department
END:VEVENT
END:VCALENDAR
