BEGIN:VCALENDAR
VERSION:2.0
PRODID:-//Talks.cam//talks.cam.ac.uk//
X-WR-CALNAME:Talks.cam
BEGIN:VEVENT
SUMMARY:Choice and Decision Making for Data Subjects Empowerment - Bettina
  Berendt (KU Leuven)
DTSTART:20161206T151500Z
DTEND:20161206T154500Z
UID:TALK69351@talks.cam.ac.uk
CONTACT:INI IT
DESCRIPTION:
LOCATION:Seminar Room 1\, Newton Institute
END:VEVENT
END:VCALENDAR
