BEGIN:VCALENDAR
VERSION:2.0
PRODID:-//Talks.cam//talks.cam.ac.uk//
X-WR-CALNAME:Talks.cam
BEGIN:VEVENT
SUMMARY:Open Innovation Workshop: Ideation &amp\; Team Creativity - Dr. Wh
 itney Bernstein
DTSTART:20161208T100000Z
DTEND:20161208T120000Z
UID:TALK69363@talks.cam.ac.uk
CONTACT:Ronald Haynes
DESCRIPTION:This interactive workshop will introduce and make use of struc
 tured methods (COSTAR and Rapid Idea Improvement Sessions) in clarifying t
 he value proposition of an idea\, advocating effectively for an idea\, and
  engaging others in rapidly improving an idea. Techniques will be practice
 d in small groups. Methods for scaling up these techniques to engage large
  crowds in the innovation process will be provided.\n\nThe 2-hour workshop
  will provide guidance and practice in advanced approaches to:\n\n* Design
 ing for the end-user\n* Defining the problem\n* Uncovering the value propo
 sition\n* Crafting & delivering 'the pitch'\n* Collaborating with colleagu
 es to improve the idea\n* Scaling up this approach for large crowds\n\nThi
 s workshop is aimed at those with an interest in practicing innovation and
  ideation processes in their daily professional capacity. The workshop is 
 aimed at those who wish to engage a small team or a large crowd in structu
 red innovation\, in order to generate novel ideas and together make them a
  reality. This is a good follow-on session for those who attend "Open Inno
 vation Workshop - Framework & Strategy for Your Innovation Process":http:/
 /talks.cam.ac.uk/talk/index/69359\, but the first workshop is not a prereq
 uisite to the second.\n\n*Registration for this event is via the:* "Worksh
 op Eventbrite site":https://www.eventbrite.com/e/innovation-workshop-advan
 ced-ideation-team-creativity-tickets-29638693129
LOCATION:Norwich Auditorium\, Roger Needham Building\, CB3 0RB
END:VEVENT
END:VCALENDAR
