BEGIN:VCALENDAR
VERSION:2.0
PRODID:-//Talks.cam//talks.cam.ac.uk//
X-WR-CALNAME:Talks.cam
BEGIN:VEVENT
SUMMARY:Discussion of the Future - 
DTSTART:20161208T170000Z
DTEND:20161208T173000Z
UID:TALK69399@talks.cam.ac.uk
CONTACT:INI IT
DESCRIPTION:This session is for open discussion\, to share ideas about opp
 ortunities for follow-up to the DLA programme:  <br>- both scientific\, re
 garding what has emerged from the programme and ways that this&nbsp\;can b
 e taken forward\;<br>- and more practical\, regarding e.g. future events\,
  research programmes and opportunities for interaction.
LOCATION:Seminar Room 1\, Newton Institute
END:VEVENT
END:VCALENDAR
