BEGIN:VCALENDAR
VERSION:2.0
PRODID:-//Talks.cam//talks.cam.ac.uk//
X-WR-CALNAME:Talks.cam
BEGIN:VEVENT
SUMMARY:Version control with Subversion - Markus Kuhn\, Computer Laborator
 y
DTSTART:20070327T130000Z
DTEND:20070327T143000Z
UID:TALK6942@talks.cam.ac.uk
CONTACT:Markus Kuhn
DESCRIPTION:I will give a quick introductory tutorial about the "Subversio
 n":http://subversion.tigris.org/ version control system under Linux and Wi
 ndows. (This presentation is primarily intended for members of pagemaster 
 and sys-admin at the Computer Laboratory\, but might also be of interest t
 o some others.)\n\nLiterature:\n* http://svnbook.red-bean.com/\n
LOCATION:FC09\, Computer Laboratory
END:VEVENT
END:VCALENDAR
