BEGIN:VCALENDAR
VERSION:2.0
PRODID:-//Talks.cam//talks.cam.ac.uk//
X-WR-CALNAME:Talks.cam
BEGIN:VEVENT
SUMMARY:Exploiting Bacteriophage for rapid detection of Mycobacteria - Dr 
 Catherine E.D. Rees\, University of Nottingham\, United Kingdom
DTSTART:20170119T080000Z
DTEND:20170119T083000Z
UID:TALK69692@talks.cam.ac.uk
CONTACT:Ilana Spilka
DESCRIPTION:Abstract not available
LOCATION:Online
END:VEVENT
END:VCALENDAR
