BEGIN:VCALENDAR
VERSION:2.0
PRODID:-//Talks.cam//talks.cam.ac.uk//
X-WR-CALNAME:Talks.cam
BEGIN:VEVENT
SUMMARY:Adaptive and maladaptive effects of glucocorticoids in adipose tis
 sue - Dr Roland Stimson\, University of Edinburgh
DTSTART:20170117T131500Z
DTEND:20170117T141500Z
UID:TALK69727@talks.cam.ac.uk
CONTACT:Karen Laurence
DESCRIPTION:Abstract not available
LOCATION:Institute of Metabolic Science (IMS)\, Level 4 ATC\, Seminar room
 s 1-2 
END:VEVENT
END:VCALENDAR
