BEGIN:VCALENDAR
VERSION:2.0
PRODID:-//Talks.cam//talks.cam.ac.uk//
X-WR-CALNAME:Talks.cam
BEGIN:VEVENT
SUMMARY:Defining the (Patho-) Physiology of Receptors for a short-chain fa
 tty acids - Professor Graeme Milligan\, University of Glasgow
DTSTART:20170404T121500Z
DTEND:20170404T131500Z
UID:TALK69758@talks.cam.ac.uk
CONTACT:Karen Laurence
DESCRIPTION:Abstract not available
LOCATION:Institute of Metabolic Science (IMS)\, Level 4 ATC\, Seminar room
 s 1-2 
END:VEVENT
END:VCALENDAR
