BEGIN:VCALENDAR
VERSION:2.0
PRODID:-//Talks.cam//talks.cam.ac.uk//
X-WR-CALNAME:Talks.cam
BEGIN:VEVENT
SUMMARY:The Decline of Adaptive Homeostasis in Ageing - Professor Kelvin J
 . A. Davies\, University of Southern California\, Los Angeles\, United Sta
 tes
DTSTART:20170223T140000Z
DTEND:20170223T143000Z
UID:TALK69829@talks.cam.ac.uk
CONTACT:Ilana Spilka
DESCRIPTION:Abstract not available
LOCATION:Online
END:VEVENT
END:VCALENDAR
