BEGIN:VCALENDAR
VERSION:2.0
PRODID:-//Talks.cam//talks.cam.ac.uk//
X-WR-CALNAME:Talks.cam
BEGIN:VEVENT
SUMMARY:The normal closure of a big Dehn twist in a mapping class group - 
 Francois Dahmani (Université Joseph Fourier Grenoble \; Université de Gr
 enoble)
DTSTART:20170109T113000Z
DTEND:20170109T123000Z
UID:TALK69867@talks.cam.ac.uk
CONTACT:INI IT
DESCRIPTION:
LOCATION:Seminar Room 1\, Newton Institute
END:VEVENT
END:VCALENDAR
