BEGIN:VCALENDAR
VERSION:2.0
PRODID:-//Talks.cam//talks.cam.ac.uk//
X-WR-CALNAME:Talks.cam
BEGIN:VEVENT
SUMMARY:Bounded cohomology of acylindrically hyperbolic groups via hyperbo
 lically embedded subgroups - Alessandro  Sisto (ETH Zürich)
DTSTART:20170111T100000Z
DTEND:20170111T110000Z
UID:TALK69879@talks.cam.ac.uk
CONTACT:INI IT
DESCRIPTION:I will discuss a few results about the bounded cohomology of a
 n acylindrically hyperbolic group\, focusing on quasimorphisms for concret
 eness. More specifically\, the results relate the bounded cohomology of an
  acylindrically hyperbolic group to that of its hyperbolically embedded su
 bgroups\, which are special subgroups that generalise peripheral subgroups
  of relatively hyperbolic groups.
LOCATION:Seminar Room 1\, Newton Institute
END:VEVENT
END:VCALENDAR
