BEGIN:VCALENDAR
VERSION:2.0
PRODID:-//Talks.cam//talks.cam.ac.uk//
X-WR-CALNAME:Talks.cam
BEGIN:VEVENT
SUMMARY:Topics in Heegaard Floer homology II - Adam Levine (Princeton Univ
 ersity)
DTSTART:20170117T090000Z
DTEND:20170117T100000Z
UID:TALK69940@talks.cam.ac.uk
CONTACT:INI IT
DESCRIPTION:After continuing with some basics of Heegaard Floer homology\,
  we will discuss knot Floer homology and its relation to surgeries on knot
 s.
LOCATION:Seminar Room 1\, Newton Institute
END:VEVENT
END:VCALENDAR
