BEGIN:VCALENDAR
VERSION:2.0
PRODID:-//Talks.cam//talks.cam.ac.uk//
X-WR-CALNAME:Talks.cam
BEGIN:VEVENT
SUMMARY:Phylogenetics and the chemical evolution of the Galaxy - Paula Jof
 re
DTSTART:20170125T131500Z
DTEND:20170125T134500Z
UID:TALK69978@talks.cam.ac.uk
CONTACT:Paula Jofre
DESCRIPTION:Abstract not available
LOCATION:Sackler Lecture Theatre\, IoA
END:VEVENT
END:VCALENDAR
