BEGIN:VCALENDAR
VERSION:2.0
PRODID:-//Talks.cam//talks.cam.ac.uk//
X-WR-CALNAME:Talks.cam
BEGIN:VEVENT
SUMMARY:Chirality-led design of organic conjugated materials - Matthew Fuc
 hter\, Imperial College London
DTSTART:20170207T143000Z
DTEND:20170207T153000Z
UID:TALK70001@talks.cam.ac.uk
CONTACT:Matt Menke
DESCRIPTION:Abstract not available
LOCATION:Rayleigh seminar room\, 2nd floor\, Maxwell Building\, Cavendish 
 laboratory
END:VEVENT
END:VCALENDAR
