BEGIN:VCALENDAR
VERSION:2.0
PRODID:-//Talks.cam//talks.cam.ac.uk//
X-WR-CALNAME:Talks.cam
BEGIN:VEVENT
SUMMARY:The Evolving Influence of Socialism on China's Economic Developmen
 t - Adrian Wood\, Professor Emeritus of International Development\, Univer
 sity of Oxford
DTSTART:20170118T140000Z
DTEND:20170118T160000Z
UID:TALK70056@talks.cam.ac.uk
CONTACT:Shuai Eddie WEI
DESCRIPTION:Abstract: After reviewing some possible meanings of ‘sociali
 sm’\, I will discuss its influence on China’s economic development dur
 ing the three decades before 1978\, the three decades after 1978\, and the
  three decades that lie ahead. I will conclude with an overall assessment 
 of the contribution of socialism to China’s past and likely future progr
 ess.
LOCATION:S2\, Alison Richard Building\, Sidgwick Site\, 7 West Road\, CB3 
 9DT
END:VEVENT
END:VCALENDAR
