BEGIN:VCALENDAR
VERSION:2.0
PRODID:-//Talks.cam//talks.cam.ac.uk//
X-WR-CALNAME:Talks.cam
BEGIN:VEVENT
SUMMARY:A New Consciousness - An interactive series of talks - Dr Prashant
  Kakoday\, Director of the Centre for Integral Health in Cambridge
DTSTART:20170110T190000Z
DTEND:20170110T201500Z
UID:TALK70088@talks.cam.ac.uk
CONTACT:Inner Space
DESCRIPTION:What is the old consciousness and what is 'a new consciousness
 ' ? Can we improve the world without paying attention to our consciousness
 ? In what ways would this new consciousness affect out lives and society? 
 Does our present day society and education system address this subject of 
 consciousness ? Do they have understanding of this? How can this new consc
 iousness be achieved? Is it easy?\n\nJoin series of interactive talks with
  Dr Prashant Kakoday to explore these answers and more on A New Consciousn
 ess. \n\nPrashant is based in Cambridge and has a background in surgery an
 d integrated health. His main interest is in the relationship between the 
 psyche\, emotions\, behaviour and health. He has spoken on subjects such a
 s these in many countries and institutions\, including the W.H.O. and the 
 Medical Teaching Program within the U.S.A.\n\nAll welcome\, free of charge
 .
LOCATION:Inner Space Meditation Centre\, 6 King's Parade\, Cambridge CB2 1
 XJ
END:VEVENT
END:VCALENDAR
