BEGIN:VCALENDAR
VERSION:2.0
PRODID:-//Talks.cam//talks.cam.ac.uk//
X-WR-CALNAME:Talks.cam
BEGIN:VEVENT
SUMMARY:Spreading the word about infectious protein misfolding - Maya Hans
 pal\, Cambridge University
DTSTART:20170209T183000Z
DTEND:20170209T191500Z
UID:TALK70114@talks.cam.ac.uk
CONTACT:Jenny Chalmers
DESCRIPTION:Infectious diseases are traditionally thought to spread by liv
 ing microorganisms\, such as bacteria\, viruses and fungi.  Although prote
 ins themselves are fundamentally not living\, some are capable of spreadin
 g disease in an infectious manner through propagative misfolding. This dis
 ease principle underlies many neurological conditions\, such as prion dise
 ases\, although not all are truly infectious. In this talk I will describe
  how proteins alone can act as infectious agents through misfolding\, and 
 how this phenomenon may be in fact be common to many neurodegenerative dis
 orders\, including Motor Neuron Disease. 
LOCATION:Nihon Room\, Foundress Court\, Pembroke College
END:VEVENT
END:VCALENDAR
