BEGIN:VCALENDAR
VERSION:2.0
PRODID:-//Talks.cam//talks.cam.ac.uk//
X-WR-CALNAME:Talks.cam
BEGIN:VEVENT
SUMMARY:Title to be confirmed - Speaker to be confirmed
DTSTART:20081023T120000Z
DTEND:20081023T130000Z
UID:TALK7024@talks.cam.ac.uk
CONTACT:Katrien Van Look
DESCRIPTION:Abstract not available
LOCATION:Lecture Theatre\, CRUK Cambridge Research Institute
END:VEVENT
END:VCALENDAR
