BEGIN:VCALENDAR
VERSION:2.0
PRODID:-//Talks.cam//talks.cam.ac.uk//
X-WR-CALNAME:Talks.cam
BEGIN:VEVENT
SUMMARY:The path to delivering nuclear fusion power - Dr Fulvio Militello
DTSTART:20170228T200000Z
DTEND:20170228T213000Z
UID:TALK70356@talks.cam.ac.uk
CONTACT:Benjamin Beresford-Jones
DESCRIPTION:CHANGE OF SPEAKER:\nDr Fulvio Militello is a Senior Research S
 cientist at the Culham Centre for Fusion Research and Head of Theory at th
 e UK Atomic Energy Authority. He will be joining us to discus sthe UK Fusi
 on Programme. He will be presenting an integrated design for a nuclear fus
 ion power plant and the challenges that remain in order to realise nuclear
  fusion as a source of sustainable energy\, as well as future opportunitie
 s in the field. Dr Militello's primary research interests lie in understan
 ding and controlling fusion plasmas\, with a view to developing techniques
  for plasma control. We look forward to hearing his perspectives on nuclea
 r fusion power and its potential for the future.\n\nFree for members\, £3
  for non-members. Membership can be purchased on the door for £12.\n\nPro
 fessor Ian Chapman apologises that he is unable to come on Tuesday\, due t
 o urgent government business. 
LOCATION:Department of Pharmacology Lecture Theatre\, Tennis Court Road
END:VEVENT
END:VCALENDAR
