BEGIN:VCALENDAR
VERSION:2.0
PRODID:-//Talks.cam//talks.cam.ac.uk//
X-WR-CALNAME:Talks.cam
BEGIN:VEVENT
SUMMARY:The Control Systems View of Wind Turbines - David Delamore and Ire
 ne Zheng
DTSTART:20070525T103000Z
DTEND:20070525T113000Z
UID:TALK7046@talks.cam.ac.uk
CONTACT:Tom Counsell
DESCRIPTION:Abstract not available
LOCATION:Seminar Room B\, Engineering\, Institute for Manufacturing IfM
END:VEVENT
END:VCALENDAR
