BEGIN:VCALENDAR
VERSION:2.0
PRODID:-//Talks.cam//talks.cam.ac.uk//
X-WR-CALNAME:Talks.cam
BEGIN:VEVENT
SUMMARY:Michael Grosse-Brömer: “Zwischen Trump\, Brexit und Bundestagsw
 ahl: Deutschland und Europa im Wahljahr 2017” - Michael Grosse-Brömer\,
  Chief Whip of the CDU/CSU Parliamentary Group in the German Bundestag
DTSTART:20170131T183000Z
DTEND:20170131T194500Z
UID:TALK70464@talks.cam.ac.uk
CONTACT:26557
DESCRIPTION:The Cambridge University German Society proudly presents Micha
 el Grosse-Brömer as our first speaker of Lent Term!\n\nMichael Grosse-Br
 ömer is the Chief Whip of the CDU/CSU Parliamentary Group in the German B
 undestag. He was elected as such in May 2012.\n\nAt our CUGS Event\, Micha
 el Grosse-Brömer will speak about “Zwischen Trump\, Brexit und Bundesta
 gswahl: Deutschland und Europa im Wahljahr 2017”. The talk will be follo
 wed by a Q&A session.\n\nPlease note that the talk will be held in German.
 \n\nAll welcome! We look forward to seeing you there!\n\nhttps://www.faceb
 ook.com/events/762909777189707/
LOCATION:Latimer Room\, Clare College
END:VEVENT
END:VCALENDAR
