BEGIN:VCALENDAR
VERSION:2.0
PRODID:-//Talks.cam//talks.cam.ac.uk//
X-WR-CALNAME:Talks.cam
BEGIN:VEVENT
SUMMARY:The revival of Italo-Greek: language ideologies and folklorization
  - Maria Olimpia Squillaci (University of Cambridge) and Manuela Pellegrin
 o (Brunel University)
DTSTART:20170222T181500Z
DTEND:20170222T193000Z
UID:TALK70521@talks.cam.ac.uk
CONTACT:46361
DESCRIPTION:Abstract not available
LOCATION:Faculty of English\, Room GR-05
END:VEVENT
END:VCALENDAR
