BEGIN:VCALENDAR
VERSION:2.0
PRODID:-//Talks.cam//talks.cam.ac.uk//
X-WR-CALNAME:Talks.cam
BEGIN:VEVENT
SUMMARY:Cambridge Judge Experience Day - Professor Sucheta Nadkarni\, Dr S
 imon Taylor\, Dr Simon Stockley
DTSTART:20170204T100000Z
DTEND:20170204T160000Z
UID:TALK70539@talks.cam.ac.uk
CONTACT:Stephanie Bolton-Huttlestone
DESCRIPTION:We’re opening up the School for the day and invite you to jo
 in us to learn more about our degree programmes and courses for business p
 rofessionals and aspiring entrepreneurs\, including: the full-time Cambrid
 ge MBA\, the Executive MBA\, the Master of Finance\, the MSt in Social Inn
 ovation\, the Postgraduate Diploma in Entrepreneurship and our Executive E
 ducation programmes.\n\nYou’ll have the opportunity to:\n\n- Hear from t
 hree of our leading faculty as they deliver short sample lectures\n- Join 
 information sessions from our MBA\, Master of Finance\, Postgraduate Diplo
 ma in Entrepreneurship and MSt in Social Innovation programmes to find out
  more about course curriculum and admissions requirements\n- Take part in 
 student and alumni Q&A panels to gain first-hand insights from those who
 ’ve been through our programmes\n-Learn more about the comprehensive lea
 rning and support the School and University of Cambridge gives to aspiring
  entrepreneurs\n- Hear more about our exciting building expansion\n- Enjoy
  a networking lunch and traditional afternoon tea\n
LOCATION:Cambridge Judge Business School\, Trumpington St\, CB2 1AG
END:VEVENT
END:VCALENDAR
