BEGIN:VCALENDAR
VERSION:2.0
PRODID:-//Talks.cam//talks.cam.ac.uk//
X-WR-CALNAME:Talks.cam
BEGIN:VEVENT
SUMMARY:&quot\;New insights into the mechanisms controlling MHC class I pe
 ptide selection&quot\; - Louise Boyle\, University of Cambridge
DTSTART:20170203T130000Z
DTEND:20170203T140000Z
UID:TALK70562@talks.cam.ac.uk
CONTACT:Tammy Dougan
DESCRIPTION:Abstract not available
LOCATION:Sackler Lecture Theatre (Level 7)\, Cambridge Institute for Medic
 al Research
END:VEVENT
END:VCALENDAR
