BEGIN:VCALENDAR
VERSION:2.0
PRODID:-//Talks.cam//talks.cam.ac.uk//
X-WR-CALNAME:Talks.cam
BEGIN:VEVENT
SUMMARY:Mapping a viral interactome - Luis Nobre\, Cambridge Institute for
  Medical Research
DTSTART:20170126T131000Z
DTEND:20170126T140000Z
UID:TALK70747@talks.cam.ac.uk
CONTACT:Janet Gibson
DESCRIPTION:Upon cell entry\, viruses subdue immune defence and hijack cel
 lular machinery to orchestrate the necessary events for production of more
  infectious viral particles. In order to understand the strategies used by
  viruses to induce these changes inside the cell\, my research focuses on 
 characterising a network of viral protein interactions with the host using
  a proteomics-based approach.
LOCATION:The Richard King Room\, Darwin College
END:VEVENT
END:VCALENDAR
