BEGIN:VCALENDAR
VERSION:2.0
PRODID:-//Talks.cam//talks.cam.ac.uk//
X-WR-CALNAME:Talks.cam
BEGIN:VEVENT
SUMMARY: Everything you need to know about Open Research (for STEM graduat
 e students and researchers) - Office of Scholarly Communication
DTSTART:20170214T100000Z
DTEND:20170214T110000Z
UID:TALK71083@talks.cam.ac.uk
CONTACT:Office of Scholarly Communication
DESCRIPTION:*What is Open Research\, and what does it mean for you?*\n\n* 
 Would you like to share your research findings with the international acad
 emic community\, without paywall restrictions?\n* Would you like to boost 
 citations of your work?  \n* Did you know that funders recognise the benef
 its of Open Access and most now require it as a condition of their grants?
 \n\n*These are questions for academics at all stages of their research.*  
 \n\nJoin us to explore: \n* everything you need to know about Open Access 
 and data sharing in STEM disciplines \n* how to use the University's Repos
 itory\, Apollo\, to publish your research and gain citations\n* the traini
 ng and advisory services offered by the OSC to facilitate your research an
 d career development \n\nBook here: https://www.training.cam.ac.uk/osc/eve
 nt/2044958 
LOCATION:Clinical School\, Addenbrookes\, Bay 13\, Room E
END:VEVENT
END:VCALENDAR
