BEGIN:VCALENDAR
VERSION:2.0
PRODID:-//Talks.cam//talks.cam.ac.uk//
X-WR-CALNAME:Talks.cam
BEGIN:VEVENT
SUMMARY:On-line recognition of handwritten equations in a nutshell - Ryan 
 Lau\, Churchill College
DTSTART:20170215T190000Z
DTEND:20170215T193000Z
UID:TALK71127@talks.cam.ac.uk
CONTACT:Matthew Ireland
DESCRIPTION:For over three decades\, LaTeX has tormented countless souls. 
 Beginners commonly find themselves spending too much time on coding\, inst
 ead of writing the whole document. Even for the experienced\, typesetting 
 mathematical equations is not always a trivial task.\n\nThanks to the adva
 ncement in technology\, the path to the end of suffering is revealed. We n
 ow have apps for recognising handwritten equations. This talk aims to expl
 ain the recognition process in detail\, and attempts to list the challenge
 s behind.
LOCATION:Wolfson Hall\, Churchill College
END:VEVENT
END:VCALENDAR
