BEGIN:VCALENDAR
VERSION:2.0
PRODID:-//Talks.cam//talks.cam.ac.uk//
X-WR-CALNAME:Talks.cam
BEGIN:VEVENT
SUMMARY:It's Not A Sprint – Milestones Along My Career As A Scientist - 
 Professor Jane Clarke FmedSci FRS - Department of Chemistry\, University o
 f Cambridge. 
DTSTART:20170224T173000Z
DTEND:20170224T175500Z
UID:TALK71152@talks.cam.ac.uk
CONTACT:Wolfson College Cambridge
DESCRIPTION:In this keynote address\, Professor Clarke will reflect upon h
 er personal journey in academia\, and offer her insights and advice for ea
 rly-career researchers.\n\n
LOCATION:Lee Hall\, Wolfson College Cambridge
END:VEVENT
END:VCALENDAR
