BEGIN:VCALENDAR
VERSION:2.0
PRODID:-//Talks.cam//talks.cam.ac.uk//
X-WR-CALNAME:Talks.cam
BEGIN:VEVENT
SUMMARY:Understanding nodulation for engineering nitrogen fixing cereals -
  Prof. Giles Oldroyd (John Innes Centre)
DTSTART:20170320T110000Z
DTEND:20170320T120000Z
UID:TALK71379@talks.cam.ac.uk
CONTACT:Hannah Main
DESCRIPTION:Abstract not available
LOCATION:Auditorium of The Sainsbury Laboratory (Bateman Street)
END:VEVENT
END:VCALENDAR
