BEGIN:VCALENDAR
VERSION:2.0
PRODID:-//Talks.cam//talks.cam.ac.uk//
X-WR-CALNAME:Talks.cam
BEGIN:VEVENT
SUMMARY:PBC as a Condition on Overt and Covert Merge - Prof. Mamoru Saito 
 (Nanzan)
DTSTART:20070501T153000Z
DTEND:20070501T170000Z
UID:TALK7158@talks.cam.ac.uk
CONTACT:Dr Theresa Biberauer
DESCRIPTION:Abstract not available
LOCATION:Sidgwick Hall\, Newnham College
END:VEVENT
END:VCALENDAR
