BEGIN:VCALENDAR
VERSION:2.0
PRODID:-//Talks.cam//talks.cam.ac.uk//
X-WR-CALNAME:Talks.cam
BEGIN:VEVENT
SUMMARY:Quivers and CFT: preprojective algebras and beyond - Alastair King
  (University of Bath)
DTSTART:20170328T123000Z
DTEND:20170328T133000Z
UID:TALK71666@talks.cam.ac.uk
CONTACT:INI IT
DESCRIPTION:I will describe the intimate link between ADE preprojective al
 gebras and Conformal Field Theories arising as SU(2) WZW models and explai
 n some of what happens in the SU(3) case.<br>
LOCATION:Seminar Room 1\, Newton Institute
END:VEVENT
END:VCALENDAR
